BEGIN:VCALENDAR
VERSION:2.0
PRODID:-//TYPO3/NONSGML News system (news)//EN
CALSCALE:GREGORIAN
METHOD:PUBLISH
BEGIN:VEVENT
UID:news-117054@strassburg.at

DTSTAMP:20260425T165934Z



DTSTART;TZID=Europe/Vienna:20260502T100000
DTEND;TZID=Europe/Vienna:20260502T000000

SUMMARY:Wanderwirt
DESCRIPTION:

LOCATION:Hauptplatz-Straßburg


END:VEVENT
END:VCALENDAR
