BEGIN:VCALENDAR
VERSION:2.0
PRODID:-//TYPO3/NONSGML News system (news)//EN
CALSCALE:GREGORIAN
METHOD:PUBLISH
BEGIN:VEVENT
UID:news-108765@strassburg.at

DTSTAMP:20260422T103232Z



DTSTART;TZID=Europe/Vienna:20260829T170000
DTEND;TZID=Europe/Vienna:20260829T050000

SUMMARY:Feuerwehrfest der FF Sankt Georgen mit der Partyband MeetU
DESCRIPTION:

LOCATION:Rüsthaus Sankt Georgen


END:VEVENT
END:VCALENDAR
